BEGIN:VCALENDAR
VERSION:2.0
PRODID:-//Burgos Gastronomy City - ECPv6.15.20//NONSGML v1.0//EN
CALSCALE:GREGORIAN
METHOD:PUBLISH
X-ORIGINAL-URL:https://burgosgastronomycity.com
X-WR-CALDESC:Eventos para Burgos Gastronomy City
REFRESH-INTERVAL;VALUE=DURATION:PT1H
X-Robots-Tag:noindex
X-PUBLISHED-TTL:PT1H
BEGIN:VTIMEZONE
TZID:Europe/Madrid
BEGIN:DAYLIGHT
TZOFFSETFROM:+0100
TZOFFSETTO:+0200
TZNAME:CEST
DTSTART:20180325T010000
END:DAYLIGHT
BEGIN:STANDARD
TZOFFSETFROM:+0200
TZOFFSETTO:+0100
TZNAME:CET
DTSTART:20181028T010000
END:STANDARD
BEGIN:DAYLIGHT
TZOFFSETFROM:+0100
TZOFFSETTO:+0200
TZNAME:CEST
DTSTART:20190331T010000
END:DAYLIGHT
BEGIN:STANDARD
TZOFFSETFROM:+0200
TZOFFSETTO:+0100
TZNAME:CET
DTSTART:20191027T010000
END:STANDARD
BEGIN:DAYLIGHT
TZOFFSETFROM:+0100
TZOFFSETTO:+0200
TZNAME:CEST
DTSTART:20200329T010000
END:DAYLIGHT
BEGIN:STANDARD
TZOFFSETFROM:+0200
TZOFFSETTO:+0100
TZNAME:CET
DTSTART:20201025T010000
END:STANDARD
BEGIN:DAYLIGHT
TZOFFSETFROM:+0100
TZOFFSETTO:+0200
TZNAME:CEST
DTSTART:20210328T010000
END:DAYLIGHT
BEGIN:STANDARD
TZOFFSETFROM:+0200
TZOFFSETTO:+0100
TZNAME:CET
DTSTART:20211031T010000
END:STANDARD
END:VTIMEZONE
BEGIN:VEVENT
DTSTART;TZID=Europe/Madrid:20191101T080000
DTEND;TZID=Europe/Madrid:20200116T170000
DTSTAMP:20260422T140102
CREATED:20200103T113539Z
LAST-MODIFIED:20200117T150449Z
UID:2232-1572595200-1579194000@burgosgastronomycity.com
SUMMARY:UNESCO celebrates World Cities Day designating 66 new Creative Cities
DESCRIPTION:Paris\, 30 October—On the occasion of World Cities’ Day\, celebrated on 31 October\, UNESCO is designating 66 urban settlements that are to join the Organization’s Network of Creative Cities\, which now number a total of 246 members. The Network brings together cities that base their development on creativity\, whether in music\, arts and folk crafts\, design\, cinema\, literature\, digital arts or gastronomy. \nUNESCO creative cities commit to placing culture at the centre of their development strategies and to share their best practices. \n“All over the world\, these cities\, each in its way\, make culture the pillar\, not an accessory\, of their strategy\,” says UNESCO Director-General Audrey Azoulay. “This favours political and social innovation and is particularly important for the young generations.” \nOn 31 October\, UNESCO and officials from 24 cities around the world will celebrate World Cities Day mobilizing the Organization’s different urban networks which focus not only on culture but also on access\, inclusion\, global citizenship education\, defense of rights\, economics and employment\, as well as climate change prevention and resilience. The celebration\, an occasion for “urban dialogues\,” will showcase exceptional cities that rely on innovation and collective intelligence to shape their future. \nIn the framework of a partnership between UNESCO and Netexplo Observatory\, the celebration will also recognize ten cities which use state of the art technological innovation at the service of citizens to transform cities around the world sustainably. Relying on a global network of 20 universities\, ten cities will be honoured for their innovative use of digital technology in their socio-economic and environmental development. \nThe new members of UNESCO’s Creative Cities Network are: \nAfyonkarahisar (Turkey) – Gastronomy\nAmbon (Indonesia) – Music\nAngoulême (France) – Literature\nAreguá (Paraguay) – Crafts and Folk Art\nArequipa (Peru) – Gastronomy\nAsahikawa (Japan) – Design\nAyacucho (Peru) – Crafts and Folk Art\nBaku (Azerbaijan) – Design\nBallarat (Australia) – Crafts and Folk Art\nBandar Abbas (Iran [Islamic Republic of]) – Crafts and Folk Art\nBangkok (Thailand) – Design\nBeirut (Lebanon) – Literature\nBelo Horizonte (Brazil) – Gastronomy\nBendigo (Australia) – Gastronomy\nBergamo (Italy) – Gastronomy\nBiella (Italy) – Crafts and Folk Art\nCaldas da Rainha (Portugal) – Crafts and Folk Art\nCebu City (Philippines) – Design\nEssaouira (Morocco) – Music\nExeter (United Kingdom of Great Britain and Northern Ireland) – Literature\nFortaleza (Brazil) – Design\nHanoi (Vietnam) – Design \nHavana (Cuba) – Music\nHyderabad (India) – Gastronomy\nJinju (Republic of Korea) – Crafts and Folk Art\nKargopol (Russian Federation) – Crafts and Folk Art\nKarlsruhe (Germany) – Media Arts\nKazan (Russian Federation) – Music\nKırşehir (Turkey) – Music\nKuhmo (Finland) – Literature\nLahore (Pakistan) – Literature\nLeeuwarden (Netherlands) – Literature\nLeiria (Portugal) – Music\nLliria (Spain) – Music\nMérida (Mexico) – Gastronomy\nMetz (France) – Music\nMuharraq (Bahrain) – Design\nMumbai (India) – Film\nNanjing (China) – Literature\nOdessa (Ukraine) – Literature\nOverstrand Hermanus (South Africa) – Gastronomy\nPort of Spain (Trinidad and Tobago) – Music\nPortoviejo (Ecuador) – Gastronomy\nPotsdam (Germany) – Film\nQuerétaro (Mexico) – Design\nRamallah (Palestine) – Music\nSan José (Costa Rica) – Design\nSanandaj (Iran [Islamic Republic of]) – Music\nSantiago de Cali (Colombia) – Media Arts\nSanto Domingo (Dominican Republic) – Music\nSarajevo (Bosnia and Herzegovina) – Film\nSharjah (United Arab Emirates) – Crafts and Folk Art\nSlemani (Iraq) – Literature\nSukhothai (Thailand) – Crafts and Folk Art\nTrinidad (Cuba) – Crafts and Folk Art\nValladolid (Spain) – Film\nValledupar (Colombia) – Music\nValparaíso (Chile) – Music\nVeszprém (Hungary) – Music\nViborg (Denmark) – Media Arts\nViljandi (Estonia) – Crafts and Folk Art\nVranje (Serbia) – Music\nWellington (New Zealand) – Film\nWonju (Republic of Korea) – Literature\nWrocław (Poland) – Literature\nYangzhou (China) – Gastronomy
URL:https://burgosgastronomycity.com/evento/unesco-celebrates-world-cities-day-designating-66-new-creative-cities/
LOCATION:PARIS
ATTACH;FMTTYPE=image/png:https://burgosgastronomycity.com/wp-content/uploads/2019/05/MAPA1.png
END:VEVENT
BEGIN:VEVENT
DTSTART;TZID=Europe/Madrid:20200101T080000
DTEND;TZID=Europe/Madrid:20200129T170000
DTSTAMP:20260422T140102
CREATED:20200103T111803Z
LAST-MODIFIED:20200103T111936Z
UID:2220-1577865600-1580317200@burgosgastronomycity.com
SUMMARY:¿Creías haberlo probado todo? Descubre la cocina de Burgos
DESCRIPTION:En el mapa gastronómico y monumental de España surge Burgos\, que fue declarada por la UNESCO en el 2015 como ciudad creativa de la gastronomía. Esta urbe castellana\, con las huellas del Cid Campeador y de un valioso legado medieval\, presenta una cocina contundente\, ideal para que el frío ni haga acto de presencia. \nBurgos es un destino turístico no saturado\, responsable y sostenible\, ideal para una escapada\, y estos meses son ideales para saborear con sus colores ocres y rojizos\, y sus platos de cuchara más nutritivos. \nSu rica gastronomía demuestra que hay vida más allá de la morcilla de Burgos\, la olla podrida o el lechazo. Son manjares que no se pueden olvidar pero aquí interesantes opciones para descubrir. Por estos motivos\, forma parte de la Red de Ciudades Creativas de la Gastronomía de la UNESCO\, junto a 246 metrópolis del mundo. \nPuedes descubrir qué es lo que más les gustó en su visita a #BurgosGastroCity en : www.cerodosbe.com
URL:https://burgosgastronomycity.com/evento/creias-haberlo-probado-todo-descubre-la-cocina-de-burgos/
LOCATION:Burgos\, Burgos
ATTACH;FMTTYPE=image/jpeg:https://burgosgastronomycity.com/wp-content/uploads/2020/01/bloghedonista.jpg
END:VEVENT
BEGIN:VEVENT
DTSTART;TZID=Europe/Madrid:20200117T080000
DTEND;TZID=Europe/Madrid:20200126T170000
DTSTAMP:20260422T140102
CREATED:20200117T150042Z
LAST-MODIFIED:20200117T150042Z
UID:2248-1579248000-1580058000@burgosgastronomycity.com
SUMMARY:Burgos\, ciudad creativa de la gastronomía\, estará en FITUR junto con TRIBU\, festival de música
DESCRIPTION:Entre el 22 y el 26 de enero se celebra en Madrid la Feria internacional de Turismo FITUR.  \nEste año la gastronomía será protagonista en comunión con la música y el arte que son la línea conductora del festival TRIBU. Festival de Música que se celebra en la ciudad de Burgos en el mes de Septiembre.  \n\nFESTIVAL TRIBU\n\n«Tribu» es un festival urbano multidisciplinar\, mayoritariamente gratuito\, que se celebra en diversos espacios escénicos de la ciudad de Burgos. \nActividades musicales\, artísticas y gastronómicas se dan cita en un marco urbano\, vanguardista\, participativo y accesible. En una clara apuesta por la inclusión de todos los burgaleses y visitantes\, se pretende que Tribu sea el espejo de una sociedad que avanza hacia la diversidad\, la igualdad y el respeto\, a través de la cultura. \nMediante conciertos\, talleres\, exposiciones\, catas e intervenciones artísticas se potencia el poder transformador que la cultura tiene sobre las personas y sobre la imagen de nuestra ciudad \nFestival Tribu obtuvo siete nominaciones en los Premios Fest\nEl festival burgalés contó con las candidaturas a Mejor Festival de Pequeño Formato\, Mejor Festival por Innovación\, Festival Más Sostenible\, Mejor Campaña de Comunicación\, Mayor Aportación Turística a la Región\, el de Diversidad e Igualdad de Género y Mejor Activación de Marca \n\nBURGOS\, CIUDAD CREATIVA DE LA GASTRONOMÍA:\n\nEDUARDO LUENGO ganador del Concurso Nacional de Celiacos e investigador de la harina de grillos\, plato INNOVADOR con este ingrediente principal. \nEduardo Luengo acudirá acompañado de Chelus García Rincón y la Escuela de Hostelería María Madre. \nEl plato reúne los conceptos de GASTRONOMÍA CREATIVA ya que utiliza productos naturales respetuosos con el medio ambiente y productos locales con alto valor nutricional. \nEl plato a degustar se denomina “Dulce Proteína”\, un brownie de chocolate y nueces edulcorado con miel burgalesa y proteína de harina de grillo sobre cremoso chocolate blanco\, aromatizado con zeste de lima\, anís estrellado y frutos rojos del bosque. \n\nMÚSICA: BANDA BURGALESA COWABUNGA \n\nTienen influencias y realizan versiones de grupos como “The Cramps”\, “The B’52s”\, “Dead Kennedys”\, “The Shadows”\, “Mr Bungle” “The Chantays”\, “Ennio Morricone” “Mungo Jerry”\, etc.\nCowabunga ha dado conciertos en salas como El Hangar\, Estudio 27\, Plan B (Salamanca)\, Ciau (Salamanca) o en el “2º concurso de bandas” de La Rua (2º premio); también han participado en el festival “Arcos solidario”\, en el UbuNigth\, en el BaaaRock(Terradillos de Esgueva)\, y han tocado en el MEH (Museo de la Evolución Humana de Burgos)\, en formato acústico. Actualmente continúan dando conciertos por todo el territorio nacional. \n\nARTISTA MURAL- MABEL ESTEBAN\n\nMabel es quizás el mayor nuevo talento artístico de la ciudad. Acaba de sacar con Eudald Carbonell y Carlos Díez el libro «Hazte humano»\nRealizará un mural sobre pared en directo\, inspirado en la música y la gastronomía. Obra original
URL:https://burgosgastronomycity.com/evento/burgos-ciudad-creativa-de-la-gastronomia-estara-en-fitur-junto-con-tribu-festival-de-musica/
LOCATION:Madrid
ATTACH;FMTTYPE=image/jpeg:https://burgosgastronomycity.com/wp-content/uploads/2020/01/TRIBUen_FITURMADRID.jpg
END:VEVENT
END:VCALENDAR